BEGIN:VCALENDAR
VERSION:2.0
PRODID:spatie/icalendar-generator
NAME:Webinar (CA): Estate Planning: A Comprehensive Overview 2024
X-WR-CALNAME:Webinar (CA): Estate Planning: A Comprehensive Overview 2024
BEGIN:VTIMEZONE
TZID:America/Denver
BEGIN:STANDARD
DTSTART:20241103T010000
TZOFFSETFROM:-0600
TZOFFSETTO:-0700
END:STANDARD
BEGIN:DAYLIGHT
DTSTART:20250309T010000
TZOFFSETFROM:-0700
TZOFFSETTO:-0600
END:DAYLIGHT
END:VTIMEZONE
BEGIN:VTIMEZONE
TZID:UTC
BEGIN:STANDARD
DTSTART:20250725T004617
TZOFFSETFROM:+0000
TZOFFSETTO:+0000
END:STANDARD
END:VTIMEZONE
BEGIN:VEVENT
UID:69e6c8d98cbb3
DTSTAMP:20260421T004617Z
SUMMARY:Webinar (CA): Estate Planning: A Comprehensive Overview 2024
URL:https://cocpa.org/catalog/events/13260201-webinar-ca-estate-planning-a-
 comprehensive-overview-2024-2025-29-04
DTSTART;TZID=America/Denver:20250429T090000
DTEND;TZID=America/Denver:20250429T163000
END:VEVENT
END:VCALENDAR