BEGIN:VCALENDAR
VERSION:2.0
PRODID:spatie/icalendar-generator
NAME:Webinar (CA): Tax Research Skills Part 2 2024
X-WR-CALNAME:Webinar (CA): Tax Research Skills Part 2 2024
BEGIN:VTIMEZONE
TZID:America/Denver
BEGIN:STANDARD
DTSTART:20241103T010000
TZOFFSETFROM:-0600
TZOFFSETTO:-0700
END:STANDARD
BEGIN:DAYLIGHT
DTSTART:20250309T010000
TZOFFSETFROM:-0700
TZOFFSETTO:-0600
END:DAYLIGHT
END:VTIMEZONE
BEGIN:VTIMEZONE
TZID:UTC
BEGIN:STANDARD
DTSTART:20250724T085614
TZOFFSETFROM:+0000
TZOFFSETTO:+0000
END:STANDARD
END:VTIMEZONE
BEGIN:VEVENT
UID:69e5ea2eb052b
DTSTAMP:20260420T085614Z
SUMMARY:Webinar (CA): Tax Research Skills Part 2 2024
URL:https://cocpa.org/catalog/events/13259925-webinar-ca-tax-research-skill
 s-part-2-2024-2025-27-03
DTSTART;TZID=America/Denver:20250327T133000
DTEND;TZID=America/Denver:20250327T170000
END:VEVENT
END:VCALENDAR