BEGIN:VCALENDAR
VERSION:2.0
PRODID:spatie/icalendar-generator
NAME:Hot Topics in Accounting: with COCPA CEO\, Alicia Gelinas
X-WR-CALNAME:Hot Topics in Accounting: with COCPA CEO\, Alicia Gelinas
BEGIN:VTIMEZONE
TZID:America/Denver
BEGIN:STANDARD
DTSTART:20231105T010000
TZOFFSETFROM:-0600
TZOFFSETTO:-0700
END:STANDARD
BEGIN:DAYLIGHT
DTSTART:20240310T010000
TZOFFSETFROM:-0700
TZOFFSETTO:-0600
END:DAYLIGHT
BEGIN:STANDARD
DTSTART:20241103T010000
TZOFFSETFROM:-0600
TZOFFSETTO:-0700
END:STANDARD
END:VTIMEZONE
BEGIN:VTIMEZONE
TZID:UTC
BEGIN:STANDARD
DTSTART:20250725T050645
TZOFFSETFROM:+0000
TZOFFSETTO:+0000
END:STANDARD
END:VTIMEZONE
BEGIN:VEVENT
UID:69e705e5d5fd9
DTSTAMP:20260421T050645Z
SUMMARY:Hot Topics in Accounting: with COCPA CEO\, Alicia Gelinas
LOCATION: 
URL:https://cocpa.org/catalog/events/13089077-hot-topics-in-accounting-with
 -cocpa-ceo-alicia-gelinas-2024-17-07
DTSTART;TZID=America/Denver:20240717T083000
DTEND;TZID=America/Denver:20240717T101000
END:VEVENT
END:VCALENDAR