BEGIN:VCALENDAR
VERSION:2.0
PRODID:spatie/icalendar-generator
NAME:2024 Women’s Summit: Elevating Your Excellence
X-WR-CALNAME:2024 Women’s Summit: Elevating Your Excellence
BEGIN:VTIMEZONE
TZID:America/Denver
BEGIN:DAYLIGHT
DTSTART:20240310T010000
TZOFFSETFROM:-0700
TZOFFSETTO:-0600
END:DAYLIGHT
BEGIN:STANDARD
DTSTART:20241103T010000
TZOFFSETFROM:-0600
TZOFFSETTO:-0700
END:STANDARD
END:VTIMEZONE
BEGIN:VTIMEZONE
TZID:UTC
BEGIN:STANDARD
DTSTART:20250728T124720
TZOFFSETFROM:+0000
TZOFFSETTO:+0000
END:STANDARD
END:VTIMEZONE
BEGIN:VEVENT
UID:69eb66586518e
DTSTAMP:20260424T124720Z
SUMMARY:2024 Women’s Summit: Elevating Your Excellence
LOCATION:3203 Quebec Street\, Denver\, Denver County\, Colorado 80207-2319
URL:https://cocpa.org/catalog/events/12987050-2024-womens-summit-elevating-
 your-excellence-2024-23-08
DTSTART;TZID=America/Denver:20240823T083000
DTEND;TZID=America/Denver:20240823T163000
END:VEVENT
END:VCALENDAR