BEGIN:VCALENDAR
VERSION:2.0
PRODID:spatie/icalendar-generator
NAME:Spring 2024 Member Appreciation Day – CPE on the House (FREE)
X-WR-CALNAME:Spring 2024 Member Appreciation Day – CPE on the House (FREE
 )
BEGIN:VTIMEZONE
TZID:America/Denver
BEGIN:STANDARD
DTSTART:20231105T010000
TZOFFSETFROM:-0600
TZOFFSETTO:-0700
END:STANDARD
BEGIN:DAYLIGHT
DTSTART:20240310T010000
TZOFFSETFROM:-0700
TZOFFSETTO:-0600
END:DAYLIGHT
BEGIN:STANDARD
DTSTART:20241103T010000
TZOFFSETFROM:-0600
TZOFFSETTO:-0700
END:STANDARD
END:VTIMEZONE
BEGIN:VTIMEZONE
TZID:UTC
BEGIN:STANDARD
DTSTART:20250723T172110
TZOFFSETFROM:+0000
TZOFFSETTO:+0000
END:STANDARD
END:VTIMEZONE
BEGIN:VEVENT
UID:69e50f06bc49a
DTSTAMP:20260419T172110Z
SUMMARY:State of Accounting
LOCATION: 
URL:https://cocpa.org/catalog/events/12897268-spring-2024-member-appreciati
 on-day-cpe-on-the-house-free-2024-21-05
DTSTART;TZID=America/Denver:20240521T083000
DTEND;TZID=America/Denver:20240521T092000
END:VEVENT
BEGIN:VEVENT
UID:69e50f06c02c2
DTSTAMP:20260419T172110Z
SUMMARY:What’s at the intersection of Real Estate and Tax Savings for Col
 orado CPAs?
LOCATION: 
URL:https://cocpa.org/catalog/events/12897268-spring-2024-member-appreciati
 on-day-cpe-on-the-house-free-2024-21-05
DTSTART;TZID=America/Denver:20240521T092500
DTEND;TZID=America/Denver:20240521T101500
END:VEVENT
BEGIN:VEVENT
UID:69e50f06c0f87
DTSTAMP:20260419T172110Z
SUMMARY:Overlooked Depreciation Strategies  for Business and Building Owner
 s
LOCATION: 
URL:https://cocpa.org/catalog/events/12897268-spring-2024-member-appreciati
 on-day-cpe-on-the-house-free-2024-21-05
DTSTART;TZID=America/Denver:20240521T103000
DTEND;TZID=America/Denver:20240521T112000
END:VEVENT
BEGIN:VEVENT
UID:69e50f06c1c5d
DTSTAMP:20260419T172110Z
SUMMARY:Break
LOCATION: 
URL:https://cocpa.org/catalog/events/12897268-spring-2024-member-appreciati
 on-day-cpe-on-the-house-free-2024-21-05
DTSTART;TZID=America/Denver:20240521T101500
DTEND;TZID=America/Denver:20240521T103000
END:VEVENT
BEGIN:VEVENT
UID:69e50f06c2864
DTSTAMP:20260419T172110Z
SUMMARY:Using Your ERP for Efficient Accounting Processes
LOCATION: 
URL:https://cocpa.org/catalog/events/12897268-spring-2024-member-appreciati
 on-day-cpe-on-the-house-free-2024-21-05
DTSTART;TZID=America/Denver:20240521T112500
DTEND;TZID=America/Denver:20240521T121500
END:VEVENT
BEGIN:VEVENT
UID:69e50f06c34bb
DTSTAMP:20260419T172110Z
SUMMARY:Lunch
LOCATION: 
URL:https://cocpa.org/catalog/events/12897268-spring-2024-member-appreciati
 on-day-cpe-on-the-house-free-2024-21-05
DTSTART;TZID=America/Denver:20240521T121500
DTEND;TZID=America/Denver:20240521T130000
END:VEVENT
BEGIN:VEVENT
UID:69e50f06c41ce
DTSTAMP:20260419T172110Z
SUMMARY:Payroll Tax and Tax Credits
LOCATION: 
URL:https://cocpa.org/catalog/events/12897268-spring-2024-member-appreciati
 on-day-cpe-on-the-house-free-2024-21-05
DTSTART;TZID=America/Denver:20240521T130000
DTEND;TZID=America/Denver:20240521T135000
END:VEVENT
BEGIN:VEVENT
UID:69e50f06c4fdb
DTSTAMP:20260419T172110Z
SUMMARY:The Art of Charts: Choosing the Right Visualization To Tell Your St
 ory
LOCATION: 
URL:https://cocpa.org/catalog/events/12897268-spring-2024-member-appreciati
 on-day-cpe-on-the-house-free-2024-21-05
DTSTART;TZID=America/Denver:20240521T135500
DTEND;TZID=America/Denver:20240521T144500
END:VEVENT
BEGIN:VEVENT
UID:69e50f06c5c6b
DTSTAMP:20260419T172110Z
SUMMARY:6 Questions to Propel your Growth
LOCATION: 
URL:https://cocpa.org/catalog/events/12897268-spring-2024-member-appreciati
 on-day-cpe-on-the-house-free-2024-21-05
DTSTART;TZID=America/Denver:20240521T150000
DTEND;TZID=America/Denver:20240521T155000
END:VEVENT
BEGIN:VEVENT
UID:69e50f06c68e0
DTSTAMP:20260419T172110Z
SUMMARY:Break
LOCATION: 
URL:https://cocpa.org/catalog/events/12897268-spring-2024-member-appreciati
 on-day-cpe-on-the-house-free-2024-21-05
DTSTART;TZID=America/Denver:20240521T144500
DTEND;TZID=America/Denver:20240521T150000
END:VEVENT
BEGIN:VEVENT
UID:69e50f06c751e
DTSTAMP:20260419T172110Z
SUMMARY:Demystifying offshore hiring: Everything you need to know about int
 ernational recruiting
LOCATION: 
URL:https://cocpa.org/catalog/events/12897268-spring-2024-member-appreciati
 on-day-cpe-on-the-house-free-2024-21-05
DTSTART;TZID=America/Denver:20240522T083000
DTEND;TZID=America/Denver:20240522T092000
END:VEVENT
BEGIN:VEVENT
UID:69e50f06c817e
DTSTAMP:20260419T172110Z
SUMMARY:5 red flags of noncompliant 401(k) plans
LOCATION: 
URL:https://cocpa.org/catalog/events/12897268-spring-2024-member-appreciati
 on-day-cpe-on-the-house-free-2024-21-05
DTSTART;TZID=America/Denver:20240522T135500
DTEND;TZID=America/Denver:20240522T144500
END:VEVENT
BEGIN:VEVENT
UID:69e50f06c8d72
DTSTAMP:20260419T172110Z
SUMMARY:Break
LOCATION: 
URL:https://cocpa.org/catalog/events/12897268-spring-2024-member-appreciati
 on-day-cpe-on-the-house-free-2024-21-05
DTSTART;TZID=America/Denver:20240522T101500
DTEND;TZID=America/Denver:20240522T103000
END:VEVENT
BEGIN:VEVENT
UID:69e50f06c9972
DTSTAMP:20260419T172110Z
SUMMARY:The secret to using trusts for estate planning and asset protection
LOCATION: 
URL:https://cocpa.org/catalog/events/12897268-spring-2024-member-appreciati
 on-day-cpe-on-the-house-free-2024-21-05
DTSTART;TZID=America/Denver:20240522T103000
DTEND;TZID=America/Denver:20240522T112000
END:VEVENT
BEGIN:VEVENT
UID:69e50f06ca5b9
DTSTAMP:20260419T172110Z
SUMMARY:Think Beyond:  Organizational Cybersecurity & Network Connectivity
LOCATION: 
URL:https://cocpa.org/catalog/events/12897268-spring-2024-member-appreciati
 on-day-cpe-on-the-house-free-2024-21-05
DTSTART;TZID=America/Denver:20240522T112500
DTEND;TZID=America/Denver:20240522T121500
END:VEVENT
BEGIN:VEVENT
UID:69e50f06cb1f0
DTSTAMP:20260419T172110Z
SUMMARY:Lunch
LOCATION: 
URL:https://cocpa.org/catalog/events/12897268-spring-2024-member-appreciati
 on-day-cpe-on-the-house-free-2024-21-05
DTSTART;TZID=America/Denver:20240522T121500
DTEND;TZID=America/Denver:20240522T130000
END:VEVENT
BEGIN:VEVENT
UID:69e50f06cbdde
DTSTAMP:20260419T172110Z
SUMMARY:UPDATED SESSION: Best Practices of Data Management & Migration
LOCATION: 
URL:https://cocpa.org/catalog/events/12897268-spring-2024-member-appreciati
 on-day-cpe-on-the-house-free-2024-21-05
DTSTART;TZID=America/Denver:20240522T130000
DTEND;TZID=America/Denver:20240522T135000
END:VEVENT
BEGIN:VEVENT
UID:69e50f06cc9d7
DTSTAMP:20260419T172110Z
SUMMARY:Mastering Expense Management and Business Credit Cards for your Fir
 m
LOCATION: 
URL:https://cocpa.org/catalog/events/12897268-spring-2024-member-appreciati
 on-day-cpe-on-the-house-free-2024-21-05
DTSTART;TZID=America/Denver:20240522T092500
DTEND;TZID=America/Denver:20240522T101500
END:VEVENT
BEGIN:VEVENT
UID:69e50f06cd5dd
DTSTAMP:20260419T172110Z
SUMMARY:Closing Remarks
LOCATION: 
URL:https://cocpa.org/catalog/events/12897268-spring-2024-member-appreciati
 on-day-cpe-on-the-house-free-2024-21-05
DTSTART;TZID=America/Denver:20240521T155000
DTEND;TZID=America/Denver:20240521T160000
END:VEVENT
BEGIN:VEVENT
UID:69e50f06ce1f1
DTSTAMP:20260419T172110Z
SUMMARY:Closing Remarks
LOCATION: 
URL:https://cocpa.org/catalog/events/12897268-spring-2024-member-appreciati
 on-day-cpe-on-the-house-free-2024-21-05
DTSTART;TZID=America/Denver:20240522T144500
DTEND;TZID=America/Denver:20240522T145500
END:VEVENT
END:VCALENDAR