BEGIN:VCALENDAR
VERSION:2.0
PRODID:spatie/icalendar-generator
NAME:Webinar (CA): New Manager Series: Next Level Conversations\, Next Leve
 l Results 2023
X-WR-CALNAME:Webinar (CA): New Manager Series: Next Level Conversations\, N
 ext Level Results 2023
BEGIN:VTIMEZONE
TZID:America/Denver
BEGIN:STANDARD
DTSTART:20231105T010000
TZOFFSETFROM:-0600
TZOFFSETTO:-0700
END:STANDARD
BEGIN:DAYLIGHT
DTSTART:20240310T010000
TZOFFSETFROM:-0700
TZOFFSETTO:-0600
END:DAYLIGHT
END:VTIMEZONE
BEGIN:VTIMEZONE
TZID:UTC
BEGIN:STANDARD
DTSTART:20250727T022755
TZOFFSETFROM:+0000
TZOFFSETTO:+0000
END:STANDARD
END:VTIMEZONE
BEGIN:VEVENT
UID:69e983ab9c02d
DTSTAMP:20260423T022755Z
SUMMARY:Webinar (CA): New Manager Series: Next Level Conversations\, Next L
 evel Results 2023
URL:https://cocpa.org/catalog/events/12509494-webinar-ca-new-manager-series
 -next-level-conversations-next-level-results-2023-2024-21-03
DTSTART;TZID=America/Denver:20240321T120000
DTEND;TZID=America/Denver:20240321T140000
END:VEVENT
END:VCALENDAR