BEGIN:VCALENDAR
VERSION:2.0
PRODID:spatie/icalendar-generator
NAME:Webinar (CA): Financial Accounting Standards: Reporting and Disclosure
  2023
X-WR-CALNAME:Webinar (CA): Financial Accounting Standards: Reporting and Di
 sclosure 2023
BEGIN:VTIMEZONE
TZID:America/Denver
BEGIN:STANDARD
DTSTART:20231105T010000
TZOFFSETFROM:-0600
TZOFFSETTO:-0700
END:STANDARD
BEGIN:DAYLIGHT
DTSTART:20240310T010000
TZOFFSETFROM:-0700
TZOFFSETTO:-0600
END:DAYLIGHT
END:VTIMEZONE
BEGIN:VTIMEZONE
TZID:UTC
BEGIN:STANDARD
DTSTART:20250729T030031
TZOFFSETFROM:+0000
TZOFFSETTO:+0000
END:STANDARD
END:VTIMEZONE
BEGIN:VEVENT
UID:69ec2e4febe37
DTSTAMP:20260425T030031Z
SUMMARY:Webinar (CA): Financial Accounting Standards: Reporting and Disclos
 ure 2023
URL:https://cocpa.org/catalog/events/12509151-webinar-ca-financial-accounti
 ng-standards-reporting-and-disclosure-2023-2024-13-02
DTSTART;TZID=America/Denver:20240213T151000
DTEND;TZID=America/Denver:20240213T163000
END:VEVENT
END:VCALENDAR