BEGIN:VCALENDAR
VERSION:2.0
PRODID:spatie/icalendar-generator
NAME:Webinar (CA): Working With the Internal Revenue Manual 2023
X-WR-CALNAME:Webinar (CA): Working With the Internal Revenue Manual 2023
BEGIN:VTIMEZONE
TZID:America/Denver
BEGIN:STANDARD
DTSTART:20231105T010000
TZOFFSETFROM:-0600
TZOFFSETTO:-0700
END:STANDARD
BEGIN:DAYLIGHT
DTSTART:20240310T010000
TZOFFSETFROM:-0700
TZOFFSETTO:-0600
END:DAYLIGHT
END:VTIMEZONE
BEGIN:VTIMEZONE
TZID:UTC
BEGIN:STANDARD
DTSTART:20250723T175047
TZOFFSETFROM:+0000
TZOFFSETTO:+0000
END:STANDARD
END:VTIMEZONE
BEGIN:VEVENT
UID:69e515f72ffa3
DTSTAMP:20260419T175047Z
SUMMARY:Webinar (CA): Working With the Internal Revenue Manual 2023
URL:https://cocpa.org/catalog/events/12508851-webinar-ca-working-with-the-i
 nternal-revenue-manual-2023-2024-24-01
DTSTART;TZID=America/Denver:20240124T090000
DTEND;TZID=America/Denver:20240124T110000
END:VEVENT
END:VCALENDAR