BEGIN:VCALENDAR
VERSION:2.0
PRODID:spatie/icalendar-generator
NAME:Webinar (CA): Financial Performance Reporting 2023: Changes that are N
 ice to Know
X-WR-CALNAME:Webinar (CA): Financial Performance Reporting 2023: Changes th
 at are Nice to Know
BEGIN:VTIMEZONE
TZID:America/Denver
BEGIN:STANDARD
DTSTART:20231105T010000
TZOFFSETFROM:-0600
TZOFFSETTO:-0700
END:STANDARD
BEGIN:DAYLIGHT
DTSTART:20240310T010000
TZOFFSETFROM:-0700
TZOFFSETTO:-0600
END:DAYLIGHT
END:VTIMEZONE
BEGIN:VTIMEZONE
TZID:UTC
BEGIN:STANDARD
DTSTART:20250724T062135
TZOFFSETFROM:+0000
TZOFFSETTO:+0000
END:STANDARD
END:VTIMEZONE
BEGIN:VEVENT
UID:69e5c5efb1fc4
DTSTAMP:20260420T062135Z
SUMMARY:Webinar (CA): Financial Performance Reporting 2023: Changes that ar
 e Nice to Know
URL:https://cocpa.org/catalog/events/12508742-webinar-ca-financial-performa
 nce-reporting-2023-changes-that-are-nice-to-know-2024-19-01
DTSTART;TZID=America/Denver:20240119T090000
DTEND;TZID=America/Denver:20240119T123000
END:VEVENT
END:VCALENDAR