BEGIN:VCALENDAR
VERSION:2.0
PRODID:spatie/icalendar-generator
NAME:Webinar (CA): Federal Tax Update: Comprehensive Business Tax—Forms 1
 065\, 1120S and 1120 2023
X-WR-CALNAME:Webinar (CA): Federal Tax Update: Comprehensive Business Tax
 —Forms 1065\, 1120S and 1120 2023
BEGIN:VTIMEZONE
TZID:America/Denver
BEGIN:DAYLIGHT
DTSTART:20230312T010000
TZOFFSETFROM:-0700
TZOFFSETTO:-0600
END:DAYLIGHT
BEGIN:STANDARD
DTSTART:20231105T010000
TZOFFSETFROM:-0600
TZOFFSETTO:-0700
END:STANDARD
BEGIN:DAYLIGHT
DTSTART:20240310T010000
TZOFFSETFROM:-0700
TZOFFSETTO:-0600
END:DAYLIGHT
END:VTIMEZONE
BEGIN:VTIMEZONE
TZID:UTC
BEGIN:STANDARD
DTSTART:20250726T034321
TZOFFSETFROM:+0000
TZOFFSETTO:+0000
END:STANDARD
END:VTIMEZONE
BEGIN:VEVENT
UID:69e843d994280
DTSTAMP:20260422T034321Z
SUMMARY:Webinar (CA): Federal Tax Update: Comprehensive Business Tax—Form
 s 1065\, 1120S and 1120 2023
URL:https://cocpa.org/catalog/events/12507968-webinar-ca-federal-tax-update
 -comprehensive-business-tax-forms-1065-1120s-and-1120-2023-2023-29-11
DTSTART;TZID=America/Denver:20231129T090000
DTEND;TZID=America/Denver:20231129T163000
END:VEVENT
END:VCALENDAR