BEGIN:VCALENDAR
VERSION:2.0
PRODID:spatie/icalendar-generator
NAME:Webinar (CA): Accounting Industry Update: Revenue Recognition and Leas
 e Accounting 2023
X-WR-CALNAME:Webinar (CA): Accounting Industry Update: Revenue Recognition 
 and Lease Accounting 2023
BEGIN:VTIMEZONE
TZID:America/Denver
BEGIN:DAYLIGHT
DTSTART:20230312T010000
TZOFFSETFROM:-0700
TZOFFSETTO:-0600
END:DAYLIGHT
BEGIN:STANDARD
DTSTART:20231105T010000
TZOFFSETFROM:-0600
TZOFFSETTO:-0700
END:STANDARD
BEGIN:DAYLIGHT
DTSTART:20240310T010000
TZOFFSETFROM:-0700
TZOFFSETTO:-0600
END:DAYLIGHT
END:VTIMEZONE
BEGIN:VTIMEZONE
TZID:UTC
BEGIN:STANDARD
DTSTART:20250727T233954
TZOFFSETFROM:+0000
TZOFFSETTO:+0000
END:STANDARD
END:VTIMEZONE
BEGIN:VEVENT
UID:69eaadca55ee3
DTSTAMP:20260423T233954Z
SUMMARY:Webinar (CA): Accounting Industry Update: Revenue Recognition and L
 ease Accounting 2023
URL:https://cocpa.org/catalog/events/12507768-webinar-ca-accounting-industr
 y-update-revenue-recognition-and-lease-accounting-2023-2023-20-11
DTSTART;TZID=America/Denver:20231120T130000
DTEND;TZID=America/Denver:20231120T141500
END:VEVENT
END:VCALENDAR