BEGIN:VCALENDAR
VERSION:2.0
PRODID:spatie/icalendar-generator
NAME:Webinar (CA): Name that Tax Case! 2023
X-WR-CALNAME:Webinar (CA): Name that Tax Case! 2023
BEGIN:VTIMEZONE
TZID:America/Denver
BEGIN:DAYLIGHT
DTSTART:20230312T010000
TZOFFSETFROM:-0700
TZOFFSETTO:-0600
END:DAYLIGHT
BEGIN:STANDARD
DTSTART:20231105T010000
TZOFFSETFROM:-0600
TZOFFSETTO:-0700
END:STANDARD
BEGIN:DAYLIGHT
DTSTART:20240310T010000
TZOFFSETFROM:-0700
TZOFFSETTO:-0600
END:DAYLIGHT
END:VTIMEZONE
BEGIN:VTIMEZONE
TZID:UTC
BEGIN:STANDARD
DTSTART:20250723T224602
TZOFFSETFROM:+0000
TZOFFSETTO:+0000
END:STANDARD
END:VTIMEZONE
BEGIN:VEVENT
UID:69e55b2a78b21
DTSTAMP:20260419T224602Z
SUMMARY:Webinar (CA): Name that Tax Case! 2023
URL:https://cocpa.org/catalog/events/12507728-webinar-ca-name-that-tax-case
 -2023-2023-17-11
DTSTART;TZID=America/Denver:20231117T090000
DTEND;TZID=America/Denver:20231117T123000
END:VEVENT
END:VCALENDAR