BEGIN:VCALENDAR
VERSION:2.0
PRODID:spatie/icalendar-generator
NAME:Webinar (CA): Financial Accounting Standards: Taxes Accounting and Dis
 closure 2023
X-WR-CALNAME:Webinar (CA): Financial Accounting Standards: Taxes Accounting
  and Disclosure 2023
BEGIN:VTIMEZONE
TZID:America/Denver
BEGIN:DAYLIGHT
DTSTART:20230312T010000
TZOFFSETFROM:-0700
TZOFFSETTO:-0600
END:DAYLIGHT
BEGIN:STANDARD
DTSTART:20231105T010000
TZOFFSETFROM:-0600
TZOFFSETTO:-0700
END:STANDARD
BEGIN:DAYLIGHT
DTSTART:20240310T010000
TZOFFSETFROM:-0700
TZOFFSETTO:-0600
END:DAYLIGHT
END:VTIMEZONE
BEGIN:VTIMEZONE
TZID:UTC
BEGIN:STANDARD
DTSTART:20250726T162017
TZOFFSETFROM:+0000
TZOFFSETTO:+0000
END:STANDARD
END:VTIMEZONE
BEGIN:VEVENT
UID:69e8f5411bf9f
DTSTAMP:20260422T162017Z
SUMMARY:Webinar (CA): Financial Accounting Standards: Taxes Accounting and 
 Disclosure 2023
URL:https://cocpa.org/catalog/events/12507488-webinar-ca-financial-accounti
 ng-standards-taxes-accounting-and-disclosure-2023-2023-06-11
DTSTART;TZID=America/Denver:20231106T114000
DTEND;TZID=America/Denver:20231106T123000
END:VEVENT
END:VCALENDAR