BEGIN:VCALENDAR
VERSION:2.0
PRODID:spatie/icalendar-generator
NAME:Webinar (AICPA): Investigations in the Crypto Currency World
X-WR-CALNAME:Webinar (AICPA): Investigations in the Crypto Currency World
BEGIN:VTIMEZONE
TZID:America/Denver
BEGIN:STANDARD
DTSTART:20221106T010000
TZOFFSETFROM:-0600
TZOFFSETTO:-0700
END:STANDARD
BEGIN:DAYLIGHT
DTSTART:20230312T010000
TZOFFSETFROM:-0700
TZOFFSETTO:-0600
END:DAYLIGHT
BEGIN:STANDARD
DTSTART:20231105T010000
TZOFFSETFROM:-0600
TZOFFSETTO:-0700
END:STANDARD
END:VTIMEZONE
BEGIN:VTIMEZONE
TZID:UTC
BEGIN:STANDARD
DTSTART:20250724T200339
TZOFFSETFROM:+0000
TZOFFSETTO:+0000
END:STANDARD
END:VTIMEZONE
BEGIN:VEVENT
UID:69e6869b4fc08
DTSTAMP:20260420T200339Z
SUMMARY:Webinar (AICPA): Investigations in the Crypto Currency World
LOCATION: 
URL:https://cocpa.org/catalog/events/64977-webinar-aicpa-investigations-in-
 the-crypto-currency-world-2023-18-07
DTSTART;TZID=America/Denver:20230718T110000
DTEND;TZID=America/Denver:20230718T123000
END:VEVENT
END:VCALENDAR