BEGIN:VCALENDAR
VERSION:2.0
PRODID:spatie/icalendar-generator
NAME:Webinar (AICPA):  MBAExpress: Emotional Intelligence — V 2.0
X-WR-CALNAME:Webinar (AICPA):  MBAExpress: Emotional Intelligence — V 2.0
BEGIN:VTIMEZONE
TZID:America/Denver
BEGIN:STANDARD
DTSTART:20221106T010000
TZOFFSETFROM:-0600
TZOFFSETTO:-0700
END:STANDARD
BEGIN:DAYLIGHT
DTSTART:20230312T010000
TZOFFSETFROM:-0700
TZOFFSETTO:-0600
END:DAYLIGHT
BEGIN:STANDARD
DTSTART:20231105T010000
TZOFFSETFROM:-0600
TZOFFSETTO:-0700
END:STANDARD
END:VTIMEZONE
BEGIN:VTIMEZONE
TZID:UTC
BEGIN:STANDARD
DTSTART:20250725T151140
TZOFFSETFROM:+0000
TZOFFSETTO:+0000
END:STANDARD
END:VTIMEZONE
BEGIN:VEVENT
UID:69e793ac99157
DTSTAMP:20260421T151140Z
SUMMARY:Webinar (AICPA):  MBAExpress: Emotional Intelligence — V 2.0
URL:https://cocpa.org/catalog/events/64939-webinar-aicpa-mbaexpress-emotion
 al-intelligence-v-20-2023-15-06
DTSTART;TZID=America/Denver:20230615T100000
DTEND;TZID=America/Denver:20230615T110000
END:VEVENT
END:VCALENDAR