BEGIN:VCALENDAR
VERSION:2.0
PRODID:spatie/icalendar-generator
NAME:COCPA Virtual Mock CPA Exam – March\, 2023
X-WR-CALNAME:COCPA Virtual Mock CPA Exam – March\, 2023
BEGIN:VTIMEZONE
TZID:America/Denver
BEGIN:STANDARD
DTSTART:20221106T010000
TZOFFSETFROM:-0600
TZOFFSETTO:-0700
END:STANDARD
BEGIN:DAYLIGHT
DTSTART:20230312T010000
TZOFFSETFROM:-0700
TZOFFSETTO:-0600
END:DAYLIGHT
END:VTIMEZONE
BEGIN:VTIMEZONE
TZID:UTC
BEGIN:STANDARD
DTSTART:20250724T085222
TZOFFSETFROM:+0000
TZOFFSETTO:+0000
END:STANDARD
END:VTIMEZONE
BEGIN:VEVENT
UID:69e5e946b38d8
DTSTAMP:20260420T085222Z
SUMMARY:COCPA Virtual Mock CPA Exam – March\, 2023
LOCATION: 
URL:https://cocpa.org/catalog/events/64110-cocpa-virtual-mock-cpa-exam-marc
 h-2023-2023-31-03
DTSTART;TZID=America/Denver:20230331T130000
DTEND;TZID=America/Denver:20230331T180000
END:VEVENT
END:VCALENDAR