BEGIN:VCALENDAR
VERSION:2.0
PRODID:spatie/icalendar-generator
NAME:Webinar (CPA Crossings): What You Can Learn From the Statement of Cash
  Flows
X-WR-CALNAME:Webinar (CPA Crossings): What You Can Learn From the Statement
  of Cash Flows
BEGIN:VTIMEZONE
TZID:America/Denver
BEGIN:STANDARD
DTSTART:20221106T010000
TZOFFSETFROM:-0600
TZOFFSETTO:-0700
END:STANDARD
BEGIN:DAYLIGHT
DTSTART:20230312T010000
TZOFFSETFROM:-0700
TZOFFSETTO:-0600
END:DAYLIGHT
END:VTIMEZONE
BEGIN:VTIMEZONE
TZID:UTC
BEGIN:STANDARD
DTSTART:20250725T162414
TZOFFSETFROM:+0000
TZOFFSETTO:+0000
END:STANDARD
END:VTIMEZONE
BEGIN:VEVENT
UID:69e7a4ae788a0
DTSTAMP:20260421T162414Z
SUMMARY:Webinar (CPA Crossings): What You Can Learn From the Statement of C
 ash Flows
LOCATION: 
URL:https://cocpa.org/catalog/events/63253-webinar-cpa-crossings-what-you-c
 an-learn-from-the-statement-of-cash-flows-2023-28-02
DTSTART;TZID=America/Denver:20230228T083000
DTEND;TZID=America/Denver:20230228T103000
END:VEVENT
END:VCALENDAR