BEGIN:VCALENDAR
VERSION:2.0
PRODID:spatie/icalendar-generator
NAME:Webinar (AICPA): Recognizing Revenue When a Performance Obligation has
  Been Satisfied
X-WR-CALNAME:Webinar (AICPA): Recognizing Revenue When a Performance Obliga
 tion has Been Satisfied
BEGIN:VTIMEZONE
TZID:America/Denver
BEGIN:STANDARD
DTSTART:20221106T010000
TZOFFSETFROM:-0600
TZOFFSETTO:-0700
END:STANDARD
BEGIN:DAYLIGHT
DTSTART:20230312T010000
TZOFFSETFROM:-0700
TZOFFSETTO:-0600
END:DAYLIGHT
END:VTIMEZONE
BEGIN:VTIMEZONE
TZID:UTC
BEGIN:STANDARD
DTSTART:20250727T201031
TZOFFSETFROM:+0000
TZOFFSETTO:+0000
END:STANDARD
END:VTIMEZONE
BEGIN:VEVENT
UID:69ea7cb799ce2
DTSTAMP:20260423T201031Z
SUMMARY:Webinar (AICPA): Recognizing Revenue When a Performance Obligation 
 has Been Satisfied
LOCATION: 
URL:https://cocpa.org/catalog/events/62305-webinar-aicpa-recognizing-revenu
 e-when-a-performance-obligation-has-been-satisfied-2023-03-02
DTSTART;TZID=America/Denver:20230203T140000
DTEND;TZID=America/Denver:20230203T150000
END:VEVENT
END:VCALENDAR