BEGIN:VCALENDAR
VERSION:2.0
PRODID:spatie/icalendar-generator
NAME:Webinar (AICPA): How culture affects risks
X-WR-CALNAME:Webinar (AICPA): How culture affects risks
BEGIN:VTIMEZONE
TZID:America/Denver
BEGIN:STANDARD
DTSTART:20221106T010000
TZOFFSETFROM:-0600
TZOFFSETTO:-0700
END:STANDARD
BEGIN:DAYLIGHT
DTSTART:20230312T010000
TZOFFSETFROM:-0700
TZOFFSETTO:-0600
END:DAYLIGHT
END:VTIMEZONE
BEGIN:VTIMEZONE
TZID:UTC
BEGIN:STANDARD
DTSTART:20250724T203821
TZOFFSETFROM:+0000
TZOFFSETTO:+0000
END:STANDARD
END:VTIMEZONE
BEGIN:VEVENT
UID:69e68ebd5d586
DTSTAMP:20260420T203821Z
SUMMARY:Webinar (AICPA): How culture affects risks
LOCATION: 
URL:https://cocpa.org/catalog/events/62035-webinar-aicpa-how-culture-affect
 s-risks-2022-13-12
DTSTART;TZID=America/Denver:20221213T080000
DTEND;TZID=America/Denver:20221213T090000
END:VEVENT
END:VCALENDAR