BEGIN:VCALENDAR
VERSION:2.0
PRODID:spatie/icalendar-generator
NAME:Webinar (CPA Crossings): Form 990 Parts V (Other Tax Issues) &  I (Fin
 ancial Summary)
X-WR-CALNAME:Webinar (CPA Crossings): Form 990 Parts V (Other Tax Issues) &
   I (Financial Summary)
BEGIN:VTIMEZONE
TZID:America/Denver
BEGIN:STANDARD
DTSTART:20221106T010000
TZOFFSETFROM:-0600
TZOFFSETTO:-0700
END:STANDARD
BEGIN:DAYLIGHT
DTSTART:20230312T010000
TZOFFSETFROM:-0700
TZOFFSETTO:-0600
END:DAYLIGHT
END:VTIMEZONE
BEGIN:VTIMEZONE
TZID:UTC
BEGIN:STANDARD
DTSTART:20250726T045035
TZOFFSETFROM:+0000
TZOFFSETTO:+0000
END:STANDARD
END:VTIMEZONE
BEGIN:VEVENT
UID:69e8539b0f96d
DTSTAMP:20260422T045035Z
SUMMARY:Webinar (CPA Crossings): Form 990 Parts V (Other Tax Issues) &  I (
 Financial Summary)
LOCATION: 
URL:https://cocpa.org/catalog/events/59112-webinar-cpa-crossings-form-990-p
 arts-v-other-tax-issues-i-financial-summary-2023-02-03
DTSTART;TZID=America/Denver:20230302T123000
DTEND;TZID=America/Denver:20230302T140000
END:VEVENT
END:VCALENDAR