BEGIN:VCALENDAR
VERSION:2.0
PRODID:spatie/icalendar-generator
NAME:Webinar (CPA Crossings): Payroll Withholding & the New Form W-4
X-WR-CALNAME:Webinar (CPA Crossings): Payroll Withholding & the New Form W-
 4
BEGIN:VTIMEZONE
TZID:America/Denver
BEGIN:STANDARD
DTSTART:20211107T010000
TZOFFSETFROM:-0600
TZOFFSETTO:-0700
END:STANDARD
BEGIN:DAYLIGHT
DTSTART:20220313T010000
TZOFFSETFROM:-0700
TZOFFSETTO:-0600
END:DAYLIGHT
END:VTIMEZONE
BEGIN:VTIMEZONE
TZID:UTC
BEGIN:STANDARD
DTSTART:20250729T033120
TZOFFSETFROM:+0000
TZOFFSETTO:+0000
END:STANDARD
END:VTIMEZONE
BEGIN:VEVENT
UID:69ec35882b66b
DTSTAMP:20260425T033120Z
SUMMARY:Webinar (CPA Crossings): Payroll Withholding & the New Form W-4
LOCATION: 
URL:https://cocpa.org/catalog/events/54770-webinar-cpa-crossings-payroll-wi
 thholding-the-new-form-w-4-2021-15-12
DTSTART;TZID=America/Denver:20211215T130000
DTEND;TZID=America/Denver:20211215T150000
END:VEVENT
END:VCALENDAR