BEGIN:VCALENDAR
VERSION:2.0
PRODID:spatie/icalendar-generator
NAME:Webinar (CPA Crossings): Understanding the Form 990 and its Preparatio
 n Prerequisites
X-WR-CALNAME:Webinar (CPA Crossings): Understanding the Form 990 and its Pr
 eparation Prerequisites
BEGIN:VTIMEZONE
TZID:America/Denver
BEGIN:DAYLIGHT
DTSTART:20210314T010000
TZOFFSETFROM:-0700
TZOFFSETTO:-0600
END:DAYLIGHT
BEGIN:STANDARD
DTSTART:20211107T010000
TZOFFSETFROM:-0600
TZOFFSETTO:-0700
END:STANDARD
BEGIN:DAYLIGHT
DTSTART:20220313T010000
TZOFFSETFROM:-0700
TZOFFSETTO:-0600
END:DAYLIGHT
END:VTIMEZONE
BEGIN:VTIMEZONE
TZID:UTC
BEGIN:STANDARD
DTSTART:20250724T115908
TZOFFSETFROM:+0000
TZOFFSETTO:+0000
END:STANDARD
END:VTIMEZONE
BEGIN:VEVENT
UID:69e6150c78519
DTSTAMP:20260420T115908Z
SUMMARY:Webinar (CPA Crossings): Understanding the Form 990 and its Prepara
 tion Prerequisites
LOCATION: 
URL:https://cocpa.org/catalog/events/52526-webinar-cpa-crossings-understand
 ing-the-form-990-and-its-preparation-prerequisites-2021-07-12
DTSTART;TZID=America/Denver:20211207T073000
DTEND;TZID=America/Denver:20211207T093000
END:VEVENT
END:VCALENDAR