BEGIN:VCALENDAR
VERSION:2.0
PRODID:spatie/icalendar-generator
NAME:2021 Mix and Match Conference – WEBCAST ONLY
X-WR-CALNAME:2021 Mix and Match Conference – WEBCAST ONLY
BEGIN:VTIMEZONE
TZID:America/Denver
BEGIN:STANDARD
DTSTART:20211107T010000
TZOFFSETFROM:-0600
TZOFFSETTO:-0700
END:STANDARD
BEGIN:DAYLIGHT
DTSTART:20220313T010000
TZOFFSETFROM:-0700
TZOFFSETTO:-0600
END:DAYLIGHT
END:VTIMEZONE
BEGIN:VTIMEZONE
TZID:UTC
BEGIN:STANDARD
DTSTART:20250724T034924
TZOFFSETFROM:+0000
TZOFFSETTO:+0000
END:STANDARD
END:VTIMEZONE
BEGIN:VEVENT
UID:69e5a244aeaf5
DTSTAMP:20260420T034924Z
SUMMARY:2021 Mix and Match Conference – WEBCAST ONLY
LOCATION: 
URL:https://cocpa.org/catalog/events/49635-2021-mix-and-match-conference-we
 bcast-only-2021-21-12
DTSTART;TZID=America/Denver:20211221T083000
DTEND;TZID=America/Denver:20211221T170000
END:VEVENT
END:VCALENDAR