BEGIN:VCALENDAR
VERSION:2.0
PRODID:spatie/icalendar-generator
NAME:Webinar (AICPA): Form 990: Mastering Its Unique Characteristics
X-WR-CALNAME:Webinar (AICPA): Form 990: Mastering Its Unique Characteristic
 s
BEGIN:VTIMEZONE
TZID:America/Denver
BEGIN:STANDARD
DTSTART:20211107T010000
TZOFFSETFROM:-0600
TZOFFSETTO:-0700
END:STANDARD
BEGIN:DAYLIGHT
DTSTART:20220313T010000
TZOFFSETFROM:-0700
TZOFFSETTO:-0600
END:DAYLIGHT
END:VTIMEZONE
BEGIN:VTIMEZONE
TZID:UTC
BEGIN:STANDARD
DTSTART:20250724T181134
TZOFFSETFROM:+0000
TZOFFSETTO:+0000
END:STANDARD
END:VTIMEZONE
BEGIN:VEVENT
UID:69e66c5601791
DTSTAMP:20260420T181134Z
SUMMARY:Webinar (AICPA): Form 990: Mastering Its Unique Characteristics
LOCATION: 
URL:https://cocpa.org/catalog/events/48756-webinar-aicpa-form-990-mastering
 -its-unique-characteristics-2021-10-12
DTSTART;TZID=America/Denver:20211210T083000
DTEND;TZID=America/Denver:20211210T163000
END:VEVENT
END:VCALENDAR