BEGIN:VCALENDAR
VERSION:2.0
PRODID:spatie/icalendar-generator
NAME:Webinar (AICPA): SOC 2 Report Walkthrough
X-WR-CALNAME:Webinar (AICPA): SOC 2 Report Walkthrough
BEGIN:VTIMEZONE
TZID:America/Denver
BEGIN:DAYLIGHT
DTSTART:20210314T010000
TZOFFSETFROM:-0700
TZOFFSETTO:-0600
END:DAYLIGHT
BEGIN:STANDARD
DTSTART:20211107T010000
TZOFFSETFROM:-0600
TZOFFSETTO:-0700
END:STANDARD
BEGIN:DAYLIGHT
DTSTART:20220313T010000
TZOFFSETFROM:-0700
TZOFFSETTO:-0600
END:DAYLIGHT
END:VTIMEZONE
BEGIN:VTIMEZONE
TZID:UTC
BEGIN:STANDARD
DTSTART:20250729T011721
TZOFFSETFROM:+0000
TZOFFSETTO:+0000
END:STANDARD
END:VTIMEZONE
BEGIN:VEVENT
UID:69ec16217c1d6
DTSTAMP:20260425T011721Z
SUMMARY:Webinar (AICPA): SOC 2 Report Walkthrough
LOCATION: 
URL:https://cocpa.org/catalog/events/48234-webinar-aicpa-soc-2-report-walkt
 hrough-2021-15-09
DTSTART;TZID=America/Denver:20210915T110000
DTEND;TZID=America/Denver:20210915T130000
END:VEVENT
END:VCALENDAR