BEGIN:VCALENDAR
VERSION:2.0
PRODID:spatie/icalendar-generator
NAME:2021 Not-For-Profit Conference Day 2
X-WR-CALNAME:2021 Not-For-Profit Conference Day 2
BEGIN:VTIMEZONE
TZID:America/Denver
BEGIN:STANDARD
DTSTART:20201101T010000
TZOFFSETFROM:-0600
TZOFFSETTO:-0700
END:STANDARD
BEGIN:DAYLIGHT
DTSTART:20210314T010000
TZOFFSETFROM:-0700
TZOFFSETTO:-0600
END:DAYLIGHT
BEGIN:STANDARD
DTSTART:20211107T010000
TZOFFSETFROM:-0600
TZOFFSETTO:-0700
END:STANDARD
END:VTIMEZONE
BEGIN:VTIMEZONE
TZID:UTC
BEGIN:STANDARD
DTSTART:20250725T095813
TZOFFSETFROM:+0000
TZOFFSETTO:+0000
END:STANDARD
END:VTIMEZONE
BEGIN:VEVENT
UID:69e74a35c83db
DTSTAMP:20260421T095813Z
SUMMARY:2021 Not-For-Profit Conference Day 2
LOCATION: 
URL:https://cocpa.org/catalog/events/47778-2021-not-for-profit-conference-d
 ay-2-2021-21-05
DTSTART;TZID=America/Denver:20210521T080000
DTEND;TZID=America/Denver:20210521T130000
END:VEVENT
END:VCALENDAR