BEGIN:VCALENDAR
VERSION:2.0
PRODID:spatie/icalendar-generator
NAME:2021 Not-For-Profit Conference Day 1
X-WR-CALNAME:2021 Not-For-Profit Conference Day 1
BEGIN:VTIMEZONE
TZID:America/Denver
BEGIN:STANDARD
DTSTART:20201101T010000
TZOFFSETFROM:-0600
TZOFFSETTO:-0700
END:STANDARD
BEGIN:DAYLIGHT
DTSTART:20210314T010000
TZOFFSETFROM:-0700
TZOFFSETTO:-0600
END:DAYLIGHT
BEGIN:STANDARD
DTSTART:20211107T010000
TZOFFSETFROM:-0600
TZOFFSETTO:-0700
END:STANDARD
END:VTIMEZONE
BEGIN:VTIMEZONE
TZID:UTC
BEGIN:STANDARD
DTSTART:20250725T124935
TZOFFSETFROM:+0000
TZOFFSETTO:+0000
END:STANDARD
END:VTIMEZONE
BEGIN:VEVENT
UID:69e7725f25d91
DTSTAMP:20260421T124935Z
SUMMARY:2021 Not-For-Profit Conference Day 1
LOCATION: 
URL:https://cocpa.org/catalog/events/47770-2021-not-for-profit-conference-d
 ay-1-2021-20-05
DTSTART;TZID=America/Denver:20210520T080000
DTEND;TZID=America/Denver:20210520T123500
END:VEVENT
END:VCALENDAR