BEGIN:VCALENDAR
VERSION:2.0
PRODID:spatie/icalendar-generator
NAME:Not-for-Profit Financial Reporting: Mastering the Unique Requirements
X-WR-CALNAME:Not-for-Profit Financial Reporting: Mastering the Unique Requi
 rements
BEGIN:VTIMEZONE
TZID:America/Denver
BEGIN:DAYLIGHT
DTSTART:20190310T010000
TZOFFSETFROM:-0700
TZOFFSETTO:-0600
END:DAYLIGHT
BEGIN:STANDARD
DTSTART:20191103T010000
TZOFFSETFROM:-0600
TZOFFSETTO:-0700
END:STANDARD
END:VTIMEZONE
BEGIN:VTIMEZONE
TZID:UTC
BEGIN:STANDARD
DTSTART:20250725T103323
TZOFFSETFROM:+0000
TZOFFSETTO:+0000
END:STANDARD
END:VTIMEZONE
BEGIN:VEVENT
UID:69e752730c2b1
DTSTAMP:20260421T103323Z
SUMMARY:Not-for-Profit Financial Reporting: Mastering the Unique Requiremen
 ts
LOCATION:7887 E Belleview Ave Suite 200\, Englewood\, Denver County\, Color
 ado 80111-6016
URL:https://cocpa.org/catalog/events/43015-not-for-profit-financial-reporti
 ng-mastering-the-unique-requirements-2019-29-08
DTSTART;TZID=America/Denver:20190829T083000
DTEND;TZID=America/Denver:20190829T163000
GEO:39.625185;-104.897106
X-APPLE-STRUCTURED-LOCATION;VALUE=URI;X-ADDRESS=7887 E Belleview Ave Suite 
 200\, Englewood\, Denver County\, Colorado 80111-6016;X-APPLE-RADIUS=72;X-
 TITLE=Colorado Society Of CPAs - Belleview:geo:39.625185,-104.897106
END:VEVENT
END:VCALENDAR