BEGIN:VCALENDAR
VERSION:2.0
PRODID:spatie/icalendar-generator
NAME:Webcast: Form 990: Mastering Its Unique Characteristics
X-WR-CALNAME:Webcast: Form 990: Mastering Its Unique Characteristics
BEGIN:VTIMEZONE
TZID:America/Denver
BEGIN:DAYLIGHT
DTSTART:20180311T010000
TZOFFSETFROM:-0700
TZOFFSETTO:-0600
END:DAYLIGHT
BEGIN:STANDARD
DTSTART:20181104T010000
TZOFFSETFROM:-0600
TZOFFSETTO:-0700
END:STANDARD
END:VTIMEZONE
BEGIN:VTIMEZONE
TZID:UTC
BEGIN:STANDARD
DTSTART:20250724T120343
TZOFFSETFROM:+0000
TZOFFSETTO:+0000
END:STANDARD
END:VTIMEZONE
BEGIN:VEVENT
UID:69e6161f87638
DTSTAMP:20260420T120343Z
SUMMARY:Webcast: Form 990: Mastering Its Unique Characteristics
LOCATION: 
URL:https://cocpa.org/catalog/events/39077-webcast-form-990-mastering-its-u
 nique-characteristics-2018-21-08
DTSTART;TZID=America/Denver:20180821T083000
DTEND;TZID=America/Denver:20180821T163000
END:VEVENT
END:VCALENDAR